BEGIN:VCALENDAR
VERSION:2.0
PRODID:-//wp-events-plugin.com//7.2.3.1//EN
TZID:Europe/Paris
X-WR-TIMEZONE:Europe/Paris
BEGIN:VEVENT
UID:116@denek-bat-pilotan.fr
DTSTART;TZID=Europe/Paris:20250305T150000
DTEND;TZID=Europe/Paris:20250305T160000
DTSTAMP:20241130T133620Z
URL:http://www.denek-bat-pilotan.fr/events/entrainement-poussin-2-2025-03-
 05/
SUMMARY:Entrainement Poussin 2
DESCRIPTION:
CATEGORIES:Poussin main nue
LOCATION:Trinquet Iholdy\, \, 
X-APPLE-STRUCTURED-LOCATION;VALUE=URI;X-ADDRESS=\, ;X-APPLE-RADIUS=100;X-TI
 TLE=Trinquet Iholdy:geo:0,0
END:VEVENT
BEGIN:VTIMEZONE
TZID:Europe/Paris
X-LIC-LOCATION:Europe/Paris
BEGIN:STANDARD
DTSTART:20241027T020000
TZOFFSETFROM:+0200
TZOFFSETTO:+0100
TZNAME:CET
END:STANDARD
END:VTIMEZONE
END:VCALENDAR