BEGIN:VCALENDAR
VERSION:2.0
PRODID:-//wp-events-plugin.com//7.2.3.1//EN
TZID:Europe/Paris
X-WR-TIMEZONE:Europe/Paris
BEGIN:VEVENT
UID:156@denek-bat-pilotan.fr
DTSTART;TZID=Europe/Paris:20250521T170000
DTEND;TZID=Europe/Paris:20250521T180000
DTSTAMP:20241130T133638Z
URL:http://www.denek-bat-pilotan.fr/eu/events/entrainement-ecole-de-pelote
 -2-2025-05-21/
SUMMARY:Entrainement Ecole de pelote 2
DESCRIPTION:
CATEGORIES:Ecole de pelote
LOCATION:Trinquet Iholdy\, \, 
X-APPLE-STRUCTURED-LOCATION;VALUE=URI;X-ADDRESS=\, ;X-APPLE-RADIUS=100;X-TI
 TLE=Trinquet Iholdy:geo:0,0
END:VEVENT
BEGIN:VTIMEZONE
TZID:Europe/Paris
X-LIC-LOCATION:Europe/Paris
BEGIN:DAYLIGHT
DTSTART:20250330T030000
TZOFFSETFROM:+0100
TZOFFSETTO:+0200
TZNAME:CEST
END:DAYLIGHT
END:VTIMEZONE
END:VCALENDAR