BEGIN:VCALENDAR
VERSION:2.0
PRODID:-//wp-events-plugin.com//7.2.3.1//EN
TZID:Europe/Paris
X-WR-TIMEZONE:Europe/Paris
BEGIN:VEVENT
UID:8@denek-bat-pilotan.fr
DTSTART;TZID=Europe/Paris:20240615T190000
DTEND;TZID=Europe/Paris:20240615T200000
DTSTAMP:20240611T162027Z
URL:http://www.denek-bat-pilotan.fr/events/db-9-jokin-g-lucas-d-a-juxue-2/
SUMMARY:DB 10 - Petti R Maria O à Juxue
DESCRIPTION:[:fr]19h00 :  Jokin G – Lucas D à Juxue contre Ozti\n\nResp
 onsable : Paxkal R\n\nDépart ARMENDARITS 18h30[:eu]19h00 :  Petti R Mari
 a O à Juxue contre Ozti\n\nResponsable : Paxkal R[:]
CATEGORIES:Poussin main nue
LOCATION:Exterieur\, \, 
X-APPLE-STRUCTURED-LOCATION;VALUE=URI;X-ADDRESS=\, ;X-APPLE-RADIUS=100;X-TI
 TLE=Exterieur:geo:0,0
END:VEVENT
BEGIN:VTIMEZONE
TZID:Europe/Paris
X-LIC-LOCATION:Europe/Paris
BEGIN:DAYLIGHT
DTSTART:20240331T030000
TZOFFSETFROM:+0100
TZOFFSETTO:+0200
TZNAME:CEST
END:DAYLIGHT
END:VTIMEZONE
END:VCALENDAR