BEGIN:VCALENDAR
VERSION:2.0
PRODID:-//wp-events-plugin.com//7.2.3.1//EN
TZID:Europe/Paris
X-WR-TIMEZONE:Europe/Paris
BEGIN:VEVENT
UID:6@denek-bat-pilotan.fr
DTSTART;TZID=Europe/Paris:20240615T160000
DTEND;TZID=Europe/Paris:20240615T161500
DTSTAMP:20240611T161845Z
URL:http://www.denek-bat-pilotan.fr/eu/events/db-11-celian-t-quentin-b-a-h
 elette/
SUMMARY:[:fr]DB 5 - Killian G- Xalbat H à Laressorre [:eu]DB 11 - Celian T
  Quentin B à Helette[:]
DESCRIPTION:[:fr]Adversaire : Inthalats 01\n\nResponsable : Marianne H\n\nD
 épart ARMENDARITS 15h15[:]
CATEGORIES:Benjamins main nue
LOCATION:Exterieur\, \, 
X-APPLE-STRUCTURED-LOCATION;VALUE=URI;X-ADDRESS=\, ;X-APPLE-RADIUS=100;X-TI
 TLE=Exterieur:geo:0,0
END:VEVENT
BEGIN:VTIMEZONE
TZID:Europe/Paris
X-LIC-LOCATION:Europe/Paris
BEGIN:DAYLIGHT
DTSTART:20240331T030000
TZOFFSETFROM:+0100
TZOFFSETTO:+0200
TZNAME:CEST
END:DAYLIGHT
END:VTIMEZONE
END:VCALENDAR