BEGIN:VCALENDAR
VERSION:2.0
PRODID:-//wp-events-plugin.com//7.2.3.1//EN
TZID:Europe/Paris
X-WR-TIMEZONE:Europe/Paris
BEGIN:VEVENT
UID:2@denek-bat-pilotan.fr
DTSTART;TZID=Europe/Paris:20240615T100000
DTEND;TZID=Europe/Paris:20240615T110000
DTSTAMP:20240611T161406Z
URL:http://www.denek-bat-pilotan.fr/events/championnat-antton-c-peio-c/
SUMMARY:DB 2 - Championnat Antton C - Peio C
DESCRIPTION:[:fr]10h00 : Antton C -Peio C à Armendarits[:]
CATEGORIES:Poussin main nue
LOCATION:Fronton Armendarits\, Place de l'Eglise\, Armendarits\, Finlande
X-APPLE-STRUCTURED-LOCATION;VALUE=URI;X-ADDRESS=Place de l'Eglise\, Armenda
 rits\, Finlande;X-APPLE-RADIUS=100;X-TITLE=Fronton Armendarits:geo:0,0
END:VEVENT
BEGIN:VTIMEZONE
TZID:Europe/Paris
X-LIC-LOCATION:Europe/Paris
BEGIN:DAYLIGHT
DTSTART:20240331T030000
TZOFFSETFROM:+0100
TZOFFSETTO:+0200
TZNAME:CEST
END:DAYLIGHT
END:VTIMEZONE
END:VCALENDAR